Workbook

Sheet Receipts 2016.17
A1: Horning Parish Council
A3: Receipts
A4: 2014/15
A5: Date | B5: Description | C5: Cleared? | D5: Amount | E5: Allotments | F5: Recycling | G5: Donations | H5: Moorings | I5: Slipway | J5: Interest | K5: Precept | L5: NNDC Grant | M5: Rent | N5: Misc | O5: Planters | P5: VAT | Q5: External Funding
A7: 1.04.16 | B7: Ludham Bridge Moorings | C7: * | D7: 375 | H7: 375 | R7: =D7-(SUM(E7:Q7)) -> 0
R8: =D8-(SUM(E8:Q8)) -> 0
B9: APRIL | D9: =SUM(D6:D8) -> 375 | E9: =SUM(E6:E8) -> 0 | F9: =SUM(F6:F8) -> 0 | G9: =SUM(G6:G8) -> 0 | H9: =SUM(H6:H8) -> 375 | I9: =SUM(I6:I8) -> 0 | J9: =SUM(J6:J8) -> 0 | K9: =SUM(K6:K8) -> 0 | ... Q9: =SUM(Q6:Q8) -> 0 | R9: =D9-(SUM(E9:Q9)) -> 0
A10: 29.04.16 | B10: Precept | C10: * | D10: =SUM(E10:Q10) -> 7933 | K10: 7933 | R10: =D10-(SUM(E10:Q10)) -> 0
A11: 29.04.16 | B11: NNDC Grant | C11: * | D11: =SUM(E11:Q11) -> 390 | L11: 390 | R11: =D11-(SUM(E11:Q11)) -> 0
A12: 18.05.16 | B12: Tidings. Planter sponsorship. | D12: 80 | O12: 80 | R12: =D12-(SUM(E12:Q12)) -> 0
A13: 18.05.16 | B13: Collection box. | D13: 87.92 | G13: 87.92 | R13: =D13-(SUM(E13:Q13)) -> 0
A14: 18.05.16 | B14: Allotment income | D14: 598.5 | E14: 598.5 | R14: =D14-(SUM(E14:Q14)) -> 0
R15: =D15-(SUM(E15:Q15)) -> 0
A16: TOTAL | B16: MAY | D16: =SUM(D10:D15) -> 9089.42 | E16: =SUM(E8:E15) -> 598.5 | F16: =SUM(F8:F15) -> 0 | G16: =SUM(G8:G15) -> 87.92 | H16: 0 | I16: 0 | J16: =SUM(J8:J15) -> 0 | K16: =SUM(K8:K15) -> 7933 | L16: =SUM(L8:L15) -> 390 | M16: =SUM(M8:M15) -> 0 | N16: =SUM(N8:N15) -> 0 | O16: =SUM(O8:O15) -> 80 | P16: =SUM(P8:P15) -> 0 | Q16: =SUM(Q8:Q15) -> 0 | R16: =D16-(SUM(E16:Q16)) -> 0
A17: 15.06.16 | B17: Ian Davis. 3 x planters | C17: * | D17: 120 | O17: 120 | R17: =D17-(SUM(E17:Q17)) -> 0
A18: 6.06.16 | B18: Bank interest | C18: * | D18: 1.76 | J18: 1.76 | R18: =D18-(SUM(E18:Q18)) -> 0
A19: 15.06.16 | B19: Allotment income. | C19: * | D19: =SUM(E19:Q19) -> 57 | E19: 57 | R19: =D19-(SUM(E19:Q19)) -> 0
A20: 20.06.16 | B20: Slipway income. | C20: * | D20: 134 | I20: 134 | R20: =D20-(SUM(E20:Q20)) -> 0
A21: TOTAL | B21: JUNE | D21: =SUM(D17:D20) -> 312.76 | E21: =SUM(E17:E20) -> 57 | F21: =SUM(F17:F20) -> 0 | G21: =SUM(G17:G20) -> 0 | H21: =SUM(H17:H20) -> 0 | I21: =SUM(I17:I20) -> 134 | J21: =SUM(J17:J20) -> 1.76 | K21: =SUM(K17:K20) -> 0 | ... Q21: =SUM(Q17:Q20) -> 0 | R21: =D21-(SUM(E21:Q21)) -> 0
R22: =D22-(SUM(E22:Q22)) -> 0
A23: 1.07.16 | B23: Ludham Bridge Moorings | C23: * | D23: 375 | H23: 375 | R23: =D23-(SUM(E23:Q23)) -> 0
A24: 22.07.16 | B24: Sharon Frosdick allotment rent | C24: * | D24: 19 | E24: 19 | R24: =D24-(SUM(E24:Q24)) -> 0
A25: TOTAL | B25: JULY | D25: =SUM(D22:D24) -> 394 | E25: =SUM(E22:E24) -> 19 | F25: =SUM(F22:F24) -> 0 | G25: =SUM(G22:G24) -> 0 | H25: =SUM(H22:H24) -> 375 | I25: =SUM(I22:I24) -> 0 | J25: =SUM(J22:J24) -> 0 | K25: =SUM(K22:K24) -> 0 | ... Q25: =SUM(Q22:Q24) -> 0 | R25: =D25-(SUM(E25:Q25)) -> 0
R26: =D26-(SUM(E26:Q26)) -> 0
A27: 1.08.2016 | B27: Broads Authority rebate for planning app | D27: 95 | N27: 95 | R27: =D27-(SUM(E27:Q27)) -> 0
R28: =D28-(SUM(E28:Q28)) -> 0
A29: TOTAL | B29: AUGUST | D29: =SUM(D26:D28) -> 95 | E29: =SUM(E26:E28) -> 0 | F29: =SUM(F26:F28) -> 0 | G29: =SUM(G26:G28) -> 0 | H29: =SUM(H26:H28) -> 0 | I29: =SUM(I26:I28) -> 0 | J29: =SUM(J26:J28) -> 0 | K29: =SUM(K26:K28) -> 0 | ... Q29: =SUM(Q26:Q28) -> 0 | R29: =D29-(SUM(E29:Q29)) -> 0
R30: =D30-(SUM(E30:Q30)) -> 0
R31: =D31-(SUM(E31:Q31)) -> 0
R32: =D32-(SUM(E32:Q32)) -> 0
A33: 5.09.16 | B33: NCAPTC Transparency grant | D33: 285.8 | Q33: 285.8 | R33: =D33-(SUM(E33:Q33)) -> 0
A34: 14.09.16 | B34: Horning Boat Show defibs, flag etc | D34: 1788.12 | Q34: 1788.12 | R34: =D34-(SUM(E34:Q34)) -> 0
R35: =D35-(SUM(E35:Q35)) -> 0
R36: =D36-(SUM(E36:Q36)) -> 0
A37: TOTAL | B37: SEPTEMBER | D37: =SUM(D32:D36) -> 2073.92 | E37: =SUM(E32:E36) -> 0 | F37: =SUM(F32:F36) -> 0 | G37: =SUM(G32:G36) -> 0 | H37: =SUM(H32:H36) -> 0 | I37: =SUM(I32:I36) -> 0 | J37: =SUM(J32:J36) -> 0 | K37: =SUM(K32:K36) -> 0 | ... Q37: =SUM(Q32:Q36) -> 2073.92 | R37: =D37-(SUM(E37:Q37)) -> 0
R38: =D38-(SUM(E38:Q38)) -> 0
A39: 30.09.16 | B39: Precept and grant | D39: 8322 | K39: 7933 | L39: 389 | R39: =D39-(SUM(E39:Q39)) -> 0
A40: 3.10.16 | B40: Ludham Bridge | D40: 375 | H40: 375 | R40: =D40-(SUM(E40:Q40)) -> 0
A41: 5.09.16 | B41: Barclays interest | D41: 1.76 | J41: 1.76 | R41: =D41-(SUM(E41:Q41)) -> 0
R42: =D42-(SUM(E42:Q42)) -> 0
...

Sheet Payments 2016.17
A1: Horning Parish Council
A3: Payments
A4: 2016/2017
A5: Date | B5: Payee | C5: Description | D5: Cheque | E5: Cleared? | F5: Amount | G5: Allotment | H5: Grass/grounds | I5: Litter Pick | J5: Dog Bins | K5: Maintenance / play insp | L5: Clerk Sal | M5: Expenses | N5: HMRC | O5: S137 Donation | P5: Profesional Fees | Q5: Memberships | R5: Training | S5: Misc | T5: Glass | U5: Capital | V5: External Funding | W5: Vat | X5: CHECK
D6: Number
A7: 4.04.16 | B7: Clerk salary and expenses | E7: * | F7: 518.54 | L7: =508.8-20.35-64.6 -> 423.85 | M7: 94.69 | X7: =F7-SUM(G7:W7) -> 0
A8: 4.04.16 | B8: Ralph Morris | C8: Litter pick | D8: 2181 | E8: * | F8: 130 | I8: 130 | X8: =F8-SUM(G8:W8) -> 0
A9: 4.04.16 | B9: Carol Gilden | C9: Feb work on green | D9: 2182 | E9: * | F9: 75 | H9: 75 | X9: =F9-SUM(G9:W9) -> 0
A10: 4.04.16 | B10: NCC | C10: Road closure | D10: 2183 | E10: * | F10: 36 | S10: 36 | X10: =F10-SUM(G10:W10) -> 0
A11: 4.04.16 | B11: NALC | C11: Quality Council status registration | D11: 2184 | F11: 50 | Q11: 50 | X11: =F11-SUM(G11:W11) -> 0
A12: 4.04.16 | B12: Savills | C12: Allotment rent payment | D12: 2185 | E12: * | F12: 250 | G12: 250 | X12: =F12-SUM(G12:W12) -> 0
A13: 4.04.16 | B13: BA | C13: Planning permission for flag | D13: 2186 | E13: * | F13: 192.5 | V13: 192.5 | X13: =F13-SUM(G13:W13) -> 0
A14: 4.04.16 | B14: Keith Buck | C14: Slipway gate and post | D14: 2187 | E14: * | F14: 145 | K14: 145 | X14: =F14-SUM(G14:W14) -> 0
A15: 4.04.16 | B15: Peter Iddon | C15: St Benet's Green sign | D15: 2188 | E15: * | F15: 81.6 | S15: 68 | W15: 13.6 | X15: =F15-SUM(G15:W15) -> 0
A16: 4.04.16 | B16: HMRC | C16: tax | D16: 2189 | E16: * | F16: 64.6 | N16: 64.6 | X16: =F16-SUM(G16:W16) -> 0
A17: 4.04.16 | B17: URM | C17: glass | D17: 2190 | E17: * | F17: 13.32 | T17: 11.1 | W17: 2.22 | X17: =F17-SUM(G17:W17) -> 0
X18: =F18-SUM(G18:W18) -> 0
X19: =F19-SUM(G19:W19) -> 0
X20: =F20-SUM(G20:W20) -> 0
B21: TOTAL FOR APRIL | C21: =F11+F26+F28+F30+F33+F34+F36+F37+F38+F29 -> 3093.76 | F21: =SUM(F7:F19) -> 1556.56 | G21: =SUM(G7:G19) -> 250 | H21: =SUM(H7:H19) -> 75 | I21: =SUM(I7:I19) -> 130 | J21: =SUM(J7:J19) -> 0 | K21: =SUM(K7:K19) -> 145 | L21: =SUM(L7:L19) -> 423.85 | M21: =SUM(M7:M19) -> 94.69 | ... W21: =SUM(W7:W19) -> 15.82 | X21: =F21-SUM(G21:W21) -> 0 | Y21: =F21-SUM(G21:W21) -> 0
X22: =F22-SUM(G22:W22) -> 0
A23: 25.04.16 | B23: CGM | D23: s/o | E23: * | F23: 81.8 | H23: 68.17 | W23: 13.63 | X23: =F23-SUM(G23:W23) -> 0
B24: NEST | C24: Clerk pension | E24: * | F24: 81.03 | L24: 81.03 | X24: =F24-SUM(G24:W24) -> 0
A25: 15.5.16 | B25: Clerk | C25: salary and expenses | D25: 2191 | E25: * | F25: 557.12 | L25: =578.76-78.6-23.15 -> 477.01 | M25: 80.11 | X25: =F25-SUM(G25:W25) -> 0
A26: 15.5.16 | B26: Ralph Morris | C26: Litter picking | D26: 2192 | E26: * | F26: 130 | I26: 130 | X26: =F26-SUM(G26:W26) -> 0
A27: 15.5.16 | B27: Post Office | C27: HMRC tax | D27: 2193 | E27: * | F27: 78.6 | N27: 78.6 | X27: =F27-SUM(G27:W27) -> 0
A28: 15.5.16 | B28: NCC | C28: Parish Partnership handrails FP1/2 | D28: 2194 | E28: * | F28: 875 | U28: 875 | X28: =F28-SUM(G28:W28) -> 0
A29: 15.5.16 | B29: Anita Turpin | C29: Plants for planters | D29: 2195 | E29: * | F29: 123.9 | H29: 123.9 | X29: =F29-SUM(G29:W29) -> 0
A30: 15.5.16 | B30: Horning Village Hall | C30: Electrician for defib VH | D30: 2196 | E30: * | F30: 204.14 | V30: 170.12 | W30: 34.02 | X30: =F30-SUM(G30:W30) -> 0
A31: 15.5.16 | B31: Jo beardshaw | C31: buy a plan for flagpole application and £!08 for defib cabinets | D31: 2197 | E31: * | F31: =16.8+108 -> 124.8 | V31: 122 | W31: 2.8 | X31: =F31-SUM(G31:W31) -> 0
A32: 15.5.16 | B32: Came and Co | C32: Insurance | D32: 2198 | E32: * | F32: 770.7 | P32: 770.7 | X32: =F32-SUM(G32:W32) -> 0
A33: 15.5.16 | B33: NALC | C33: Subs | D33: 2199 | E33: * | F33: 210.46 | Q33: 210.46 | X33: =F33-SUM(G33:W33) -> 0
A34: 15.5.16 | B34: Carol Gilden | C34: Cut green | D34: 2200 | E34: * | F34: 50 | H34: 50 | X34: =F34-SUM(G34:W34) -> 0
A35: 15.5.16 | B35: URM | C35: Glass | D35: 2201 | E35: * | F35: 10.8 | T35: 9 | W35: 1.8 | X35: =F35-SUM(G35:W35) -> 0
A36: 15.5.16 | B36: CGM | C36: Rolling recreation ground | D36: 2202 | E36: * | F36: 294 | H36: 245 | W36: 49 | X36: =F36-SUM(G36:W36) -> 0
A37: 15.5.16 | B37: Ferry Marina | C37: Electrician for defib ferry marina | D37: 2203 | E37: * | F37: 637.61 | V37: 531.34 | W37: 106.27 | X37: =F37-SUM(G37:W37) -> 0
A38: 15.5.16 | B38: Emery and Son | C38: Electrician for New Inn | D38: 2204 | E38: * | F38: 518.65 | V38: 432.21 | W38: 86.44 | X38: =F38-SUM(G38:W38) -> 0
A39: 15.5.16 | B39: The Poppy Appeal (£50) | C39: Replacement for lost chq 2144 | D39: 2205 | E39: * | X39: =F39-SUM(G39:W39) -> 0
X40: =F40-SUM(G40:W40) -> 0
X41: =F41-SUM(G41:W41) -> 0
...

Sheet Budget 2016.17
A1: HORNING PARISH COUNCIL PRECEPT 2015/2016
A5: ACTUAL | B5: ACTUAL | C5: Actual | E5: Actual | F5: Budget | G5: Notes
A6: 2011/2012 | B6: 2012/13 | C6: 2013/14 | D6: PAYMENTS | F6: 2016/2017
A7: 388 | B7: 582 | C7: 234 | D7: Allotment - Church Commissioners | E7: =SUM('Payments 2016.17'!G181) -> 500 | F7: 620 | G7: inc 120 maintenance budget
D8: Grass Cutting and Grounds Maint | E8: =SUM('Payments 2016.17'!H181) -> 2610.25 | F8: 2300
A9: 1560 | B9: 1569 | C9: 1608.36 | D9: Litter Picking | E9: =SUM('Payments 2016.17'!I181) -> 1560 | F9: =130*12 -> 1560
A10: 1500 | B10: 1956 | C10: 1485 | D10: Maintenance | E10: =SUM('Payments 2016.17'!K181) -> 2091 | F10: 1390 | G10: Inc Playground Inspection
A11: 3700 | B11: 2959 | C11: 2741.72 | D11: Clerk's Remuneration | E11: =SUM('Payments 2016.17'!L181,'Payments 2016.17'!N181) -> 6373.93 | F11: 6300 | G11: inc HMRC + pension
B12: 250 | C12: 282.8 | D12: Admin & Mileage | E12: =SUM('Payments 2016.17'!M181) -> 1032.55 | F12: 1000
A13: 100 | B13: 105 | C13: 50 | D13: S 137 Donations | E13: =SUM('Payments 2016.17'!O181) -> 550 | F13: 650 | G13: inc St Benedicts PCC £500
A14: 951 | B14: 730 | C14: 724.62 | D14: Profesional fees | E14: =SUM('Payments 2016.17'!P181) -> 1040.7 | F14: 990 | G14: Insurance/Audit/Legal
A15: 1456 | B15: 1437 | C15: 1560 | D15: Dog Bin Emptying | E15: =SUM('Payments 2016.17'!J181) -> 1773.2 | F15: 1560 | G15: full year to march 2017
A16: 150 | B16: 52 | C16: 85 | D16: Training | E16: =SUM('Payments 2016.17'!R181) -> 265.8 | F16: 200
A17: 800 | B17: 7900 | C17: 703 | D17: General Expenses/Misc | E17: =SUM('Payments 2016.17'!S181) -> 521.5 | F17: 1000
A18: 350 | B18: 415 | C18: 265.92 | D18: Memberships | E18: =SUM('Payments 2016.17'!Q181) -> 270.46 | F18: 200
D19: Glass recycling | E19: =SUM('Payments 2016.17'!T181) -> 172.42 | F19: 100
A20: 0 | B20: 0 | C20: 2000 | D20: Increase(Decrease) in Strategic Reserve | F20: 2000
D21: Capital Project | E21: =SUM('Payments 2016.17'!U181) -> 943.51 | F21: 1000 | G21: hand rails / steps fp 1 and fp2
A22: =SUM(A7:A18) -> 10955 | B22: 20878 | C22: 13426.41 | D22: Parish Budget | E22: =SUM(E7:E21) -> 19705.32 | F22: =SUM(F7:F21) -> 20870
D23: External Funded Items (HBS etc) | E23: =SUM('Payments 2016.17'!V181) -> 1448.17
D24: RECEIPTS
A25: 450 | B25: 517 | C25: 75 | D25: Allotment Rents | E25: =SUM('Receipts 2016.17'!E83) -> 674.5 | F25: 620
A26: 1300 | B26: 1863 | C26: 1122.4 | D26: Mooring/ | E26: =SUM('Receipts 2016.17'!H83) -> 1125 | F26: 1500
D27: Slipway | E27: =SUM('Receipts 2016.17'!I83) -> 374 | F27: 200
A28: 13500 | B28: 14500 | C28: 14000 | D28: Precept | E28: =SUM('Receipts 2016.17'!K83) -> 15866 | F28: 15866
D29: NNDC Grant | E29: =SUM('Receipts 2016.17'!L83) -> 779 | F29: 779
A30: 1158 | B30: 1291 | C30: 1241.13 | D30: Recycling Credits | E30: =SUM('Receipts 2016.17'!F83) -> 325.55 | F30: 1200
A31: 500 | B31: 115 | C31: 95.9 | D31: Donation Box | E31: =SUM('Receipts 2016.17'!G83) -> 413.57 | F31: 200
D32: Recreation Ground Rents | E32: =SUM('Receipts 2016.17'!M83) -> 0 | F32: 5
D33: Planter Donations | E33: =SUM('Receipts 2016.17'!O83) -> 200 | F33: 400
D34: Misc/Bank Interest | E34: =SUM('Receipts 2016.17'!N83,'Receipts 2016.17'!J83) -> 412.78 | F34: 100
A35: =SUM(A25:A31) -> 16908 | B35: 21396 | C35: 16739.43 | D35: Parish Budget | E35: =SUM(E25:E34) -> 20170.4 | F35: =SUM(F25:F34) -> 20870
D36: External Funded Items (HBS etc) | E36: =SUM('Receipts 2016.17'!Q83) -> 2073.92
A37: 8000 | B37: 10000 | C37: 12000 | D37: Strategic Reserve (start of year) | F37: 14000 | G37: Deduct Ludham moorings work
D40: All figures are ex-VAT

Sheet Cashbook
B1: Bank Reconciliation
B2: Financial year ending 31 March 2017
B4: HORNING PARISH COUNCIL
B6: Balance as at 31st March 2017
B8: Community Account No 00478385 31.03.16 | C8: =6832.67-589.39 -> 6243.28
B9: Business Savings Account No 30478504 31.03.16 | C9: 14096.3 | D9: =SUM(C8:C9) -> 20339.58
B10: Receipts | C10: 24522.93 | D10: =SUM(C8:C10) -> 44862.51
B12: Less Payments | C12: 22391.7 | D12: =SUM(C12) -> 22391.7
B13: Balance as at cash book | D13: =SUM(D10-D12) -> 22470.81
B14: Unpresented Cheques
A17: Add: | B17: Receipts 2016/2017
B18: Precept | C18: 15866
B19: Grants | C19: 779
B20: Allotments | C20: 674.5
B21: Moorings | C21: 1125
B22: Recycling | C22: 325.55
B23: Donations | C23: 413.57
B24: Slipway | C24: 374
B25: VAT returned | C25: 2278.61
B26: External funding | C26: 2073.92
B27: Misc | C27: =407.5+5.28+200 -> 612.78
B28: Total of 2016/2017 Receipts | D28: =SUM(C18:C27) -> 24522.93
B29: Plus opening balance at 01 April 2016 | D29: 20339.58
B30: Receipts TOTAL | D30: =SUM(D28+D29) -> 44862.51
A31: Less: | B31: Payments 2016/2017
B32: Clerk Salary | C32: 5648.33
B33: VAT | C33: 1044.66
B34: Other | C34: 15698.71
B35: Payments Total | D35: =SUM(C32:C34) -> 22391.7
B36: Balance of Parish Council Accounts at 31.03.2017 | D36: =SUM(D30-D35) -> 22470.81
